BEGIN:VCALENDAR
VERSION:2.0
PRODID:-//Illinois Sparkling Co. - ECPv6.15.20//NONSGML v1.0//EN
CALSCALE:GREGORIAN
METHOD:PUBLISH
X-WR-CALNAME:Illinois Sparkling Co.
X-ORIGINAL-URL:https://iscbubbly.com
X-WR-CALDESC:Events for Illinois Sparkling Co.
REFRESH-INTERVAL;VALUE=DURATION:PT1H
X-Robots-Tag:noindex
X-PUBLISHED-TTL:PT1H
BEGIN:VTIMEZONE
TZID:UTC
BEGIN:STANDARD
TZOFFSETFROM:+0000
TZOFFSETTO:+0000
TZNAME:UTC
DTSTART:20240101T000000
END:STANDARD
END:VTIMEZONE
BEGIN:VEVENT
DTSTART;VALUE=DATE:20250701
DTEND;VALUE=DATE:20250708
DTSTAMP:20260422T074832
CREATED:20180503T164329Z
LAST-MODIFIED:20250701T141008Z
UID:1567-1751328000-1751932799@iscbubbly.com
SUMMARY:Sparkling Wine Week
DESCRIPTION:Sparkling Wine Week\, on July 1-7\, is one of our favorite holidays to celebrate. It’s a time for us to let the world know how much we love bubbly! We have twelve ISC sparkling wines and seven AHW infusion bubbly wines to help you celebrate the week. Here are the ways you can #sparkthefun and celebrate with us:   \n#SparkTheFun at Wine on the Hill on July 5-6\nJoin us for Wine on the Hill\, located at our vineyard and winery location in Peru\, IL. Enjoy a bottle of ISC bubbly or our Sparkling Wine Flight. Or make the day extra special and sign up for a Cave Tasting Experience or Sparkling Cave Tasting Experience in our winery caves\, where we age our ISC bubbly.  You don’t need to reserve a spot for Wine on the Hill\, but you do need a reservation for the Cave Tasting Experience.   \n#SparkTheFun at the Tasting Room\, July 1-7\nStop by our Tasting Room and cool off with a glass or flight of your favorite bubbly. You can try three of your favorites when you order our wine flight. Or pick up a bottle of bubbly for a picnic at a local park or a celebration with friends. The Utica fireworks are on July 5\, and we are staying open until 8:30pm; stop by for a glass beforehand!    \nONLINE OFFER: #SparkTheFun & Stock up on ISC Bubbly & AHW Infusions\, July 1-7\nYou can  have your favorite sparkling wines shipped to you. Order three or more bottles and use coupon code SPARKLE25 to receive $10 off your order.  \n\nClick here to order wine to ship to: Arizona\, California\, Colorado\, Washington D.C.\, Florida\, Illinois\, Indiana\, Iowa\, Michigan\, Minnesota\, Missouri\, Montana\, Texas\, and Wisconsin.\nClick here to order wine to ship to: Alaska\, Connecticut\, Georgia\, Hawaii\, Idaho\, Kansas\, Kentucky\, Louisiana\, Massachusetts\, Maryland\, Maine\, North Carolina\, North Dakota\, Nebraska\, New Mexico\, Nevada\, New York\, Ohio\, Oklahoma\, Oregon\, Pennsylvania\, South Carolina\, Virginia\, Vermont\, Washington\, West Virginia\, and Wyoming.  \n\n #SparkTheFun at a Sunday Brunch or a Lunch\nReserve a spot online for Sunday Brunch with Bottomless Mimosa option (offered July 6) or  join us for Tuesday or Friday Lunch (offered July 1 and July 4).  \n#SparkTheFun with Mimosas!\nCelebrate with mimosas. Create your own recipes or try one of the recipes in our Mimosa Blog article. \n Share your #SparklingWineWeek Adventures with Us\nShare your bubbly moments\, use the hashtag\, have fun!  #SparklingWineWeek #ISCbubbly #SparkTheFun
URL:https://iscbubbly.com/event/sparkling-wine-week-2/
LOCATION:AHW & ISC Tasting Room\, 106 Mill Street\, Utica\, IL\, 61373\, United States
ATTACH;FMTTYPE=image/jpeg:https://iscbubbly.com/wp-content/uploads/2020/07/toast-a9iy7S.tmp_.jpg
END:VEVENT
END:VCALENDAR