BEGIN:VCALENDAR
VERSION:2.0
PRODID:-//Illinois Sparkling Co. - ECPv6.15.20//NONSGML v1.0//EN
CALSCALE:GREGORIAN
METHOD:PUBLISH
X-ORIGINAL-URL:https://iscbubbly.com
X-WR-CALDESC:Events for Illinois Sparkling Co.
REFRESH-INTERVAL;VALUE=DURATION:PT1H
X-Robots-Tag:noindex
X-PUBLISHED-TTL:PT1H
BEGIN:VTIMEZONE
TZID:America/Chicago
BEGIN:DAYLIGHT
TZOFFSETFROM:-0600
TZOFFSETTO:-0500
TZNAME:CDT
DTSTART:20240310T080000
END:DAYLIGHT
BEGIN:STANDARD
TZOFFSETFROM:-0500
TZOFFSETTO:-0600
TZNAME:CST
DTSTART:20241103T070000
END:STANDARD
BEGIN:DAYLIGHT
TZOFFSETFROM:-0600
TZOFFSETTO:-0500
TZNAME:CDT
DTSTART:20250309T080000
END:DAYLIGHT
BEGIN:STANDARD
TZOFFSETFROM:-0500
TZOFFSETTO:-0600
TZNAME:CST
DTSTART:20251102T070000
END:STANDARD
BEGIN:DAYLIGHT
TZOFFSETFROM:-0600
TZOFFSETTO:-0500
TZNAME:CDT
DTSTART:20260308T080000
END:DAYLIGHT
BEGIN:STANDARD
TZOFFSETFROM:-0500
TZOFFSETTO:-0600
TZNAME:CST
DTSTART:20261101T070000
END:STANDARD
END:VTIMEZONE
BEGIN:VEVENT
DTSTART;VALUE=DATE:20251114
DTEND;VALUE=DATE:20251116
DTSTAMP:20260420T033935
CREATED:20230822T221045Z
LAST-MODIFIED:20251105T194123Z
UID:9053-1763078400-1763251199@iscbubbly.com
SUMMARY:Insider’s Wine Club Event
DESCRIPTION:Insider Wine Club members are invited to join us for Will Call Weekend! Our Lounge will be set up for members only\, limited to 2 people per membership (member & spouse or member and guest).  Will Call members can begin picking up their wine club orders on Friday\, November 14. \n🍷 Friday & Saturday at the Tasting Room\, 106 Mill St.\, Utica\n\nFriday\, November 14\, 12:00pm-6:30pm; music by John Piontek\, 3:30pm-6:30pm\nSaturday\, November 15\, 12:00pm-6:30pm; music by Steve Sharp\, 3:30pm-6:30pm\nMembers receive a special treat\, a complimentary pairing for 2 people.\n\nPlease Note: Our lounge is reserved for Insiders only during these events\, but our Tasting Bar & Patio are open for all. Two people are allowed per Wine Club membership. The lounge is a 21+ only area. \nIf you are interested in learning more about the benefits of Wine Club Membership or if you would like to sign up to become a member\, click here.
URL:https://iscbubbly.com/event/insiders-wine-club-event-5/
LOCATION:AHW & ISC Tasting Room\, 106 Mill Street\, Utica\, IL\, 61373\, United States
END:VEVENT
BEGIN:VEVENT
DTSTART;TZID=America/Chicago:20251114T180000
DTEND;TZID=America/Chicago:20251114T200000
DTSTAMP:20260420T033935
CREATED:20250813T183408Z
LAST-MODIFIED:20251105T194123Z
UID:11521-1763143200-1763150400@iscbubbly.com
SUMMARY:Binny’s Joliet Wine Tasting
DESCRIPTION:Join us at Binny’s Beverage Depot in Joliet on Friday\, November 14\, from 6-8 pm for a special wine tasting! Sample a variety of August Hill & ISC wines\, discover new favorites\, and stock up for the season. \nHere are the wines we are pouring: \n\nAugie’s Blackberry\nNiagara\nStrawberry Peach Sangria\nMoscato\nCaramel Apple\nMardi Gras\nTrapolino
URL:https://iscbubbly.com/event/binnys-joliet-wine-tasting/
LOCATION:Binny’s Beverage Joliet\, 3150 Tonti Dr.\, Joliet\, IL\, 60431
END:VEVENT
END:VCALENDAR